BEGIN:VCALENDAR
VERSION:2.0
PRODID:caire.hkust.edu.hk
BEGIN:VEVENT
UID:69ea5963407db
DTSTART:20230302T103000Z
SEQUENCE:0
TRANSP:OPAQUE
DTEND:20230302T120000Z
SUMMARY:ChatGPT: What It Can and Cannot Do?
CLASS:PUBLIC
DESCRIPTION:ChatGPT: What It Can and Cannot Do?
DTSTAMP:20260423T173947Z
END:VEVENT
END:VCALENDAR