BEGIN:VCALENDAR
VERSION:2.0
PRODID:caire.hkust.edu.hk
BEGIN:VEVENT
UID:69e9f9d513def
DTSTART:20230412T110000Z
SEQUENCE:0
TRANSP:OPAQUE
DTEND:20230412T110000Z
SUMMARY:Do Large Language Models Need Sensory Grounding for Meaning and Und
 erstanding?
CLASS:PUBLIC
DESCRIPTION:Do Large Language Models Need Sensory Grounding for Meaning and
  Understanding?
DTSTAMP:20260423T105205Z
END:VEVENT
END:VCALENDAR